BEGIN:VCALENDAR
VERSION:2.0
PRODID:-//City and County of Honolulu Elderly Affairs Division - ECPv6.14.2//NONSGML v1.0//EN
CALSCALE:GREGORIAN
METHOD:PUBLISH
X-ORIGINAL-URL:https://elderlyaffairs.com
X-WR-CALDESC:Events for City and County of Honolulu Elderly Affairs Division
REFRESH-INTERVAL;VALUE=DURATION:PT1H
X-Robots-Tag:noindex
X-PUBLISHED-TTL:PT1H
BEGIN:VTIMEZONE
TZID:Pacific/Honolulu
BEGIN:STANDARD
TZOFFSETFROM:-1000
TZOFFSETTO:-1000
TZNAME:HST
DTSTART:20260101T000000
END:STANDARD
END:VTIMEZONE
BEGIN:VEVENT
DTSTART;TZID=Pacific/Honolulu:20260205T120000
DTEND;TZID=Pacific/Honolulu:20260205T130000
DTSTAMP:20260421T011138
CREATED:20260127T003634Z
LAST-MODIFIED:20260127T004421Z
UID:10000014-1770292800-1770296400@elderlyaffairs.com
SUMMARY:Alzheimer's Association Hawaii Sponsored Webinar:  Building Brain-Healthy Habits with Dr. Rachel Lindsey
DESCRIPTION:Building BRAIN-HEALTHY Habits\, Thursday\, February 5\, 2026\, 12p m- 1pm via Zoom \nJoin the Alzheimer’s Association Hawaii and Dr. Rachel Lindsey to learn how you can live better NOW and protect your memory and thinking at any age. \n\nUnderstand the lifestyle changes than can impact brain health and reduce dementia risk\nLearn the new science about how physical activity affects the brain\nBuild a personalized action plan for brain-healthy habits\n\nClick the link below to Register for the free webinar and receive the Zoom link information.
URL:https://elderlyaffairs.com/event/alzheimers-association-hawaii-building-brain-healthy-habits/
LOCATION:Virtually via Zoom
END:VEVENT
END:VCALENDAR